BEGIN:VCALENDAR
VERSION:2.0
PRODID:-//St.-Hubertus-Schützenbruderschaft Lippling e. V. - ECPv6.15.20//NONSGML v1.0//EN
CALSCALE:GREGORIAN
METHOD:PUBLISH
X-WR-CALNAME:St.-Hubertus-Schützenbruderschaft Lippling e. V.
X-ORIGINAL-URL:https://schuetzen-lippling.de
X-WR-CALDESC:Veranstaltungen für St.-Hubertus-Schützenbruderschaft Lippling e. V.
REFRESH-INTERVAL;VALUE=DURATION:PT1H
X-Robots-Tag:noindex
X-PUBLISHED-TTL:PT1H
BEGIN:VTIMEZONE
TZID:Europe/Berlin
BEGIN:DAYLIGHT
TZOFFSETFROM:+0100
TZOFFSETTO:+0200
TZNAME:CEST
DTSTART:20250330T010000
END:DAYLIGHT
BEGIN:STANDARD
TZOFFSETFROM:+0200
TZOFFSETTO:+0100
TZNAME:CET
DTSTART:20251026T010000
END:STANDARD
BEGIN:DAYLIGHT
TZOFFSETFROM:+0100
TZOFFSETTO:+0200
TZNAME:CEST
DTSTART:20260329T010000
END:DAYLIGHT
BEGIN:STANDARD
TZOFFSETFROM:+0200
TZOFFSETTO:+0100
TZNAME:CET
DTSTART:20261025T010000
END:STANDARD
BEGIN:DAYLIGHT
TZOFFSETFROM:+0100
TZOFFSETTO:+0200
TZNAME:CEST
DTSTART:20270328T010000
END:DAYLIGHT
BEGIN:STANDARD
TZOFFSETFROM:+0200
TZOFFSETTO:+0100
TZNAME:CET
DTSTART:20271031T010000
END:STANDARD
END:VTIMEZONE
BEGIN:VEVENT
DTSTART;VALUE=DATE:20260802
DTEND;VALUE=DATE:20260803
DTSTAMP:20260422T185158
CREATED:20260216T212410Z
LAST-MODIFIED:20260216T212410Z
UID:3152-1785628800-1785715199@schuetzen-lippling.de
SUMMARY:Besuch des Schützenfestes in Schöning
DESCRIPTION:
URL:https://schuetzen-lippling.de/veranstaltungen/besuch-des-schuetzenfestes-in-schoening-2/
CATEGORIES:Jungschützen,Schützenverein
END:VEVENT
BEGIN:VEVENT
DTSTART;VALUE=DATE:20260809
DTEND;VALUE=DATE:20260810
DTSTAMP:20260422T185158
CREATED:20260216T212442Z
LAST-MODIFIED:20260216T212442Z
UID:3154-1786233600-1786319999@schuetzen-lippling.de
SUMMARY:Besuch des Schützenfestes in Steinhorst
DESCRIPTION:
URL:https://schuetzen-lippling.de/veranstaltungen/besuch-des-schuetzenfestes-in-steinhorst/
CATEGORIES:Jungschützen,Schützenverein
END:VEVENT
END:VCALENDAR