BEGIN:VCALENDAR
VERSION:2.0
PRODID:-//St.-Hubertus-Schützenbruderschaft Lippling e. V. - ECPv6.15.20//NONSGML v1.0//EN
CALSCALE:GREGORIAN
METHOD:PUBLISH
X-WR-CALNAME:St.-Hubertus-Schützenbruderschaft Lippling e. V.
X-ORIGINAL-URL:https://schuetzen-lippling.de
X-WR-CALDESC:Veranstaltungen für St.-Hubertus-Schützenbruderschaft Lippling e. V.
REFRESH-INTERVAL;VALUE=DURATION:PT1H
X-Robots-Tag:noindex
X-PUBLISHED-TTL:PT1H
BEGIN:VTIMEZONE
TZID:Europe/Berlin
BEGIN:DAYLIGHT
TZOFFSETFROM:+0100
TZOFFSETTO:+0200
TZNAME:CEST
DTSTART:20250330T010000
END:DAYLIGHT
BEGIN:STANDARD
TZOFFSETFROM:+0200
TZOFFSETTO:+0100
TZNAME:CET
DTSTART:20251026T010000
END:STANDARD
BEGIN:DAYLIGHT
TZOFFSETFROM:+0100
TZOFFSETTO:+0200
TZNAME:CEST
DTSTART:20260329T010000
END:DAYLIGHT
BEGIN:STANDARD
TZOFFSETFROM:+0200
TZOFFSETTO:+0100
TZNAME:CET
DTSTART:20261025T010000
END:STANDARD
BEGIN:DAYLIGHT
TZOFFSETFROM:+0100
TZOFFSETTO:+0200
TZNAME:CEST
DTSTART:20270328T010000
END:DAYLIGHT
BEGIN:STANDARD
TZOFFSETFROM:+0200
TZOFFSETTO:+0100
TZNAME:CET
DTSTART:20271031T010000
END:STANDARD
END:VTIMEZONE
BEGIN:VEVENT
DTSTART;VALUE=DATE:20260604
DTEND;VALUE=DATE:20260605
DTSTAMP:20260422T102301
CREATED:20260210T100508Z
LAST-MODIFIED:20260210T100508Z
UID:3130-1780531200-1780617599@schuetzen-lippling.de
SUMMARY:Fronleichnamsprozession
DESCRIPTION:
URL:https://schuetzen-lippling.de/veranstaltungen/fronleichnamsprozession-2/
LOCATION:St.-Marien-Kirche Steinhorst\, Bergstraße 14\, Delbrück\, 33129\, Deutschland
END:VEVENT
BEGIN:VEVENT
DTSTART;VALUE=DATE:20260612
DTEND;VALUE=DATE:20260613
DTSTAMP:20260422T102301
CREATED:20260210T100734Z
LAST-MODIFIED:20260210T100734Z
UID:3133-1781222400-1781308799@schuetzen-lippling.de
SUMMARY:Patronatsfest
DESCRIPTION:
URL:https://schuetzen-lippling.de/veranstaltungen/patronatsfest-4/
LOCATION:Herz-Jesu-Kirche Lippling
END:VEVENT
BEGIN:VEVENT
DTSTART;VALUE=DATE:20260613
DTEND;VALUE=DATE:20260614
DTSTAMP:20260422T102301
CREATED:20260210T100814Z
LAST-MODIFIED:20260210T100814Z
UID:3135-1781308800-1781395199@schuetzen-lippling.de
SUMMARY:Schüler- und Jugendprinzenschießen
DESCRIPTION:
URL:https://schuetzen-lippling.de/veranstaltungen/schueler-und-jugendprinzenschiessen-4/
END:VEVENT
BEGIN:VEVENT
DTSTART;VALUE=DATE:20260613
DTEND;VALUE=DATE:20260614
DTSTAMP:20260422T102301
CREATED:20260210T100854Z
LAST-MODIFIED:20260210T100854Z
UID:3137-1781308800-1781395199@schuetzen-lippling.de
SUMMARY:Besuch des Schützenfestes in Delbrück
DESCRIPTION:
URL:https://schuetzen-lippling.de/veranstaltungen/besuch-des-schuetzenfestes-in-delbrueck-2/
END:VEVENT
BEGIN:VEVENT
DTSTART;VALUE=DATE:20260620
DTEND;VALUE=DATE:20260623
DTSTAMP:20260422T102301
CREATED:20260216T212142Z
LAST-MODIFIED:20260216T212143Z
UID:3148-1781913600-1782172799@schuetzen-lippling.de
SUMMARY:Schützenfest in Lippling
DESCRIPTION:
URL:https://schuetzen-lippling.de/veranstaltungen/schuetzenfest-in-lippling-5/
LOCATION:Dorfplatz Lippling
CATEGORIES:Jungschützen,Schützenverein
END:VEVENT
END:VCALENDAR