BEGIN:VCALENDAR
VERSION:2.0
PRODID:-//St.-Hubertus-Schützenbruderschaft Lippling e. V. - ECPv6.15.20//NONSGML v1.0//EN
CALSCALE:GREGORIAN
METHOD:PUBLISH
X-ORIGINAL-URL:https://schuetzen-lippling.de
X-WR-CALDESC:Veranstaltungen für St.-Hubertus-Schützenbruderschaft Lippling e. V.
REFRESH-INTERVAL;VALUE=DURATION:PT1H
X-Robots-Tag:noindex
X-PUBLISHED-TTL:PT1H
BEGIN:VTIMEZONE
TZID:Europe/Berlin
BEGIN:DAYLIGHT
TZOFFSETFROM:+0100
TZOFFSETTO:+0200
TZNAME:CEST
DTSTART:20250330T010000
END:DAYLIGHT
BEGIN:STANDARD
TZOFFSETFROM:+0200
TZOFFSETTO:+0100
TZNAME:CET
DTSTART:20251026T010000
END:STANDARD
BEGIN:DAYLIGHT
TZOFFSETFROM:+0100
TZOFFSETTO:+0200
TZNAME:CEST
DTSTART:20260329T010000
END:DAYLIGHT
BEGIN:STANDARD
TZOFFSETFROM:+0200
TZOFFSETTO:+0100
TZNAME:CET
DTSTART:20261025T010000
END:STANDARD
BEGIN:DAYLIGHT
TZOFFSETFROM:+0100
TZOFFSETTO:+0200
TZNAME:CEST
DTSTART:20270328T010000
END:DAYLIGHT
BEGIN:STANDARD
TZOFFSETFROM:+0200
TZOFFSETTO:+0100
TZNAME:CET
DTSTART:20271031T010000
END:STANDARD
END:VTIMEZONE
BEGIN:VEVENT
DTSTART;VALUE=DATE:20260513
DTEND;VALUE=DATE:20260514
DTSTAMP:20260422T084017
CREATED:20251229T200945Z
LAST-MODIFIED:20251229T200945Z
UID:3122-1778630400-1778716799@schuetzen-lippling.de
SUMMARY:Ausmarsch
DESCRIPTION:
URL:https://schuetzen-lippling.de/veranstaltungen/ausmarsch-3/
END:VEVENT
BEGIN:VEVENT
DTSTART;VALUE=DATE:20260517
DTEND;VALUE=DATE:20260518
DTSTAMP:20260422T084017
CREATED:20260210T100256Z
LAST-MODIFIED:20260210T100256Z
UID:3125-1778976000-1779062399@schuetzen-lippling.de
SUMMARY:Pfarrgemeindefest
DESCRIPTION:
URL:https://schuetzen-lippling.de/veranstaltungen/pfarrgemeindefest/
END:VEVENT
END:VCALENDAR