BEGIN:VCALENDAR
VERSION:2.0
PRODID:-//St.-Hubertus-Schützenbruderschaft Lippling e. V. - ECPv6.15.20//NONSGML v1.0//EN
CALSCALE:GREGORIAN
METHOD:PUBLISH
X-WR-CALNAME:St.-Hubertus-Schützenbruderschaft Lippling e. V.
X-ORIGINAL-URL:https://schuetzen-lippling.de
X-WR-CALDESC:Veranstaltungen für St.-Hubertus-Schützenbruderschaft Lippling e. V.
REFRESH-INTERVAL;VALUE=DURATION:PT1H
X-Robots-Tag:noindex
X-PUBLISHED-TTL:PT1H
BEGIN:VTIMEZONE
TZID:Europe/Berlin
BEGIN:DAYLIGHT
TZOFFSETFROM:+0100
TZOFFSETTO:+0200
TZNAME:CEST
DTSTART:20210328T010000
END:DAYLIGHT
BEGIN:STANDARD
TZOFFSETFROM:+0200
TZOFFSETTO:+0100
TZNAME:CET
DTSTART:20211031T010000
END:STANDARD
BEGIN:DAYLIGHT
TZOFFSETFROM:+0100
TZOFFSETTO:+0200
TZNAME:CEST
DTSTART:20220327T010000
END:DAYLIGHT
BEGIN:STANDARD
TZOFFSETFROM:+0200
TZOFFSETTO:+0100
TZNAME:CET
DTSTART:20221030T010000
END:STANDARD
BEGIN:DAYLIGHT
TZOFFSETFROM:+0100
TZOFFSETTO:+0200
TZNAME:CEST
DTSTART:20230326T010000
END:DAYLIGHT
BEGIN:STANDARD
TZOFFSETFROM:+0200
TZOFFSETTO:+0100
TZNAME:CET
DTSTART:20231029T010000
END:STANDARD
END:VTIMEZONE
BEGIN:VEVENT
DTSTART;VALUE=DATE:20220904
DTEND;VALUE=DATE:20220905
DTSTAMP:20260423T133436
CREATED:20220528T151525Z
LAST-MODIFIED:20220829T055921Z
UID:406-1662249600-1662335999@schuetzen-lippling.de
SUMMARY:Kreisschützenfest in Boke
DESCRIPTION:Am Sonntag\, 04.09.2022 ist unsere Schützenbruderschaft zu Gast beim Kreisschützenfest in Boke. \nDer Bus fährt an der Poststube um 11:45 Uhr ab. \nDie Rückfahrt ist für 19:30 Uhr geplant. \nFür freuen uns über zahlreiche Teilnehmer beim Festumzug in Boke. \nWeitere Infos zum Kreisschützenfest findet ihr hier: https://www.ksf-2020.de/
URL:https://schuetzen-lippling.de/veranstaltungen/kreisschuetzenfest-in-boke/
END:VEVENT
BEGIN:VEVENT
DTSTART;TZID=Europe/Berlin:20220909T183000
DTEND;TZID=Europe/Berlin:20220909T235900
DTSTAMP:20260423T133436
CREATED:20220528T151555Z
LAST-MODIFIED:20220903T061411Z
UID:408-1662748200-1662767940@schuetzen-lippling.de
SUMMARY:Bundesschützenfest in Ostenland
DESCRIPTION:Die Lipplinger Bruderschaft wird sowohl am Freitag (09.09.) am Großen Zapfenstreich als auch am Sonntag (11.09.) am Festumzug teilnehmen. \nDer Bus fährt am Freitag\, 09.09.2022\, um *18:30 Uhr ab Poststuben*. \n 
URL:https://schuetzen-lippling.de/veranstaltungen/bundesschuetzenfest-in-ostenland/
END:VEVENT
BEGIN:VEVENT
DTSTART;TZID=Europe/Berlin:20220911T091500
DTEND;TZID=Europe/Berlin:20220911T190000
DTSTAMP:20260423T133436
CREATED:20220903T061550Z
LAST-MODIFIED:20220903T061550Z
UID:910-1662887700-1662922800@schuetzen-lippling.de
SUMMARY:Bundesschützenfest in Ostenland
DESCRIPTION:Die Lipplinger Bruderschaft wird sowohl am Freitag (09.09.) am Großen Zapfenstreich als auch am Sonntag (11.09.) am Festumzug teilnehmen. \nDer Bus fährt am Sonntag\, 11.09.2022\, um *09:15 Uhr ab Poststuben*. Die Rückfahrt ist für 19 Uhr geplant.
URL:https://schuetzen-lippling.de/veranstaltungen/bundesschuetzenfest-in-ostenland-2/
END:VEVENT
END:VCALENDAR