BEGIN:VCALENDAR
VERSION:2.0
PRODID:-//St.-Hubertus-Schützenbruderschaft Lippling e. V. - ECPv6.15.20//NONSGML v1.0//EN
CALSCALE:GREGORIAN
METHOD:PUBLISH
X-WR-CALNAME:St.-Hubertus-Schützenbruderschaft Lippling e. V.
X-ORIGINAL-URL:https://schuetzen-lippling.de
X-WR-CALDESC:Veranstaltungen für St.-Hubertus-Schützenbruderschaft Lippling e. V.
REFRESH-INTERVAL;VALUE=DURATION:PT1H
X-Robots-Tag:noindex
X-PUBLISHED-TTL:PT1H
BEGIN:VTIMEZONE
TZID:Europe/Berlin
BEGIN:DAYLIGHT
TZOFFSETFROM:+0100
TZOFFSETTO:+0200
TZNAME:CEST
DTSTART:20250330T010000
END:DAYLIGHT
BEGIN:STANDARD
TZOFFSETFROM:+0200
TZOFFSETTO:+0100
TZNAME:CET
DTSTART:20251026T010000
END:STANDARD
BEGIN:DAYLIGHT
TZOFFSETFROM:+0100
TZOFFSETTO:+0200
TZNAME:CEST
DTSTART:20260329T010000
END:DAYLIGHT
BEGIN:STANDARD
TZOFFSETFROM:+0200
TZOFFSETTO:+0100
TZNAME:CET
DTSTART:20261025T010000
END:STANDARD
BEGIN:DAYLIGHT
TZOFFSETFROM:+0100
TZOFFSETTO:+0200
TZNAME:CEST
DTSTART:20270328T010000
END:DAYLIGHT
BEGIN:STANDARD
TZOFFSETFROM:+0200
TZOFFSETTO:+0100
TZNAME:CET
DTSTART:20271031T010000
END:STANDARD
END:VTIMEZONE
BEGIN:VEVENT
DTSTART;TZID=Europe/Berlin:20260314T193000
DTEND;TZID=Europe/Berlin:20260314T233000
DTSTAMP:20260422T111637
CREATED:20251229T200744Z
LAST-MODIFIED:20260214T112711Z
UID:3118-1773516600-1773531000@schuetzen-lippling.de
SUMMARY:Jahreshauptversammlung der Schützenbruderschaft
DESCRIPTION:Am Samstag\, 14.03.2026\, findet unsere diesjährige Jahreshauptversammlung statt. Beginn ist um 19:30 Uhr in der Lipplinger Gemeindehalle. \nTagesordnung: \n\nBegrüßung\nGedenken der verstorbenen Mitglieder\nVerlesung des Protokolls der letzten Jahreshauptversammlung\nJahresbericht 2025\nBericht des Schießmeisters\nKurzbericht der Jungschützen\nKassenbericht 2025\nBericht der Kassenprüfer\nEntlastung des Vorstandes\nBestätigung des Jungschützenvorstandes\nWahl eines Wahlleiters\nNeuwahlen des Vorstandes\nWahl der Kassenprüfer\nVerabschiedung der ausscheidenden Vorstandsmitglieder\nBeförderung der neuen Vorstandsmitglieder\nVerleihung der Leistungsabzeichen\, Hubertusplaketten und Kordeln\nAnträge\nVerschiedenes\n\nTraditionell wird um die Teilnahme in Uniform gebeten. Für das leibliche Wohl ist gesorgt.
URL:https://schuetzen-lippling.de/veranstaltungen/jahreshauptversammlung-4/
LOCATION:Gemeindehalle Lippling
CATEGORIES:Schützenverein
END:VEVENT
END:VCALENDAR