BEGIN:VCALENDAR
VERSION:2.0
PRODID:-//St.-Hubertus-Schützenbruderschaft Lippling e. V. - ECPv6.15.20//NONSGML v1.0//EN
CALSCALE:GREGORIAN
METHOD:PUBLISH
X-ORIGINAL-URL:https://schuetzen-lippling.de
X-WR-CALDESC:Veranstaltungen für St.-Hubertus-Schützenbruderschaft Lippling e. V.
REFRESH-INTERVAL;VALUE=DURATION:PT1H
X-Robots-Tag:noindex
X-PUBLISHED-TTL:PT1H
BEGIN:VTIMEZONE
TZID:Europe/Berlin
BEGIN:DAYLIGHT
TZOFFSETFROM:+0100
TZOFFSETTO:+0200
TZNAME:CEST
DTSTART:20250330T010000
END:DAYLIGHT
BEGIN:STANDARD
TZOFFSETFROM:+0200
TZOFFSETTO:+0100
TZNAME:CET
DTSTART:20251026T010000
END:STANDARD
BEGIN:DAYLIGHT
TZOFFSETFROM:+0100
TZOFFSETTO:+0200
TZNAME:CEST
DTSTART:20260329T010000
END:DAYLIGHT
BEGIN:STANDARD
TZOFFSETFROM:+0200
TZOFFSETTO:+0100
TZNAME:CET
DTSTART:20261025T010000
END:STANDARD
BEGIN:DAYLIGHT
TZOFFSETFROM:+0100
TZOFFSETTO:+0200
TZNAME:CEST
DTSTART:20270328T010000
END:DAYLIGHT
BEGIN:STANDARD
TZOFFSETFROM:+0200
TZOFFSETTO:+0100
TZNAME:CET
DTSTART:20271031T010000
END:STANDARD
END:VTIMEZONE
BEGIN:VEVENT
DTSTART;TZID=Europe/Berlin:20260306T190000
DTEND;TZID=Europe/Berlin:20260306T223000
DTSTAMP:20260422T113116
CREATED:20260212T174243Z
LAST-MODIFIED:20260212T174243Z
UID:3139-1772823600-1772836200@schuetzen-lippling.de
SUMMARY:Jahreshauptversammlung der Jungschützen
DESCRIPTION:Am Freitag\, 06.03.2025\, findet die Jahreshauptversammlung unserer Jungschützenabteilung statt. Beginn ist um 19:00 Uhr im Lipplinger Pfarrheim. Die Jungschützen nehmen in zivil an der Versammlung teil. \nTagesordnung: \n\nBegrüßung\nVerlesung des Protokolls der letzten Jahreshauptversammlung\nJahresbericht\nKassenbericht\nBericht der Kassenprüfer\nEntlastung des Vorstandes\nWahl eines Wahlleiters\nWahl des Vorstandes\nWahl der Kassenprüfer\nVerschiedenes\n\n 
URL:https://schuetzen-lippling.de/veranstaltungen/jahreshauptversammlung-der-jungschuetzen-2/
LOCATION:Pfarrheim Lippling
CATEGORIES:Jungschützen
END:VEVENT
END:VCALENDAR