BEGIN:VCALENDAR
VERSION:2.0
PRODID:-//St.-Hubertus-Schützenbruderschaft Lippling e. V. - ECPv6.15.20//NONSGML v1.0//EN
CALSCALE:GREGORIAN
METHOD:PUBLISH
X-WR-CALNAME:St.-Hubertus-Schützenbruderschaft Lippling e. V.
X-ORIGINAL-URL:https://schuetzen-lippling.de
X-WR-CALDESC:Veranstaltungen für St.-Hubertus-Schützenbruderschaft Lippling e. V.
REFRESH-INTERVAL;VALUE=DURATION:PT1H
X-Robots-Tag:noindex
X-PUBLISHED-TTL:PT1H
BEGIN:VTIMEZONE
TZID:Europe/Berlin
BEGIN:DAYLIGHT
TZOFFSETFROM:+0100
TZOFFSETTO:+0200
TZNAME:CEST
DTSTART:20220327T010000
END:DAYLIGHT
BEGIN:STANDARD
TZOFFSETFROM:+0200
TZOFFSETTO:+0100
TZNAME:CET
DTSTART:20221030T010000
END:STANDARD
BEGIN:DAYLIGHT
TZOFFSETFROM:+0100
TZOFFSETTO:+0200
TZNAME:CEST
DTSTART:20230326T010000
END:DAYLIGHT
BEGIN:STANDARD
TZOFFSETFROM:+0200
TZOFFSETTO:+0100
TZNAME:CET
DTSTART:20231029T010000
END:STANDARD
BEGIN:DAYLIGHT
TZOFFSETFROM:+0100
TZOFFSETTO:+0200
TZNAME:CEST
DTSTART:20240331T010000
END:DAYLIGHT
BEGIN:STANDARD
TZOFFSETFROM:+0200
TZOFFSETTO:+0100
TZNAME:CET
DTSTART:20241027T010000
END:STANDARD
END:VTIMEZONE
BEGIN:VEVENT
DTSTART;TZID=Europe/Berlin:20230603T194500
DTEND;TZID=Europe/Berlin:20230604T003000
DTSTAMP:20260421T021127
CREATED:20230121T093749Z
LAST-MODIFIED:20230530T154850Z
UID:1185-1685821500-1685838600@schuetzen-lippling.de
SUMMARY:Schützenfest in Delbrück
DESCRIPTION:Der Schützenverein organisiert einen Bustransfer. \nAbfahrt ist um 19:45 Uhr ab Gaststätte Poststuben. \nDie Rückfahrt mit Haltestelle in Osterloh und Westerloh ist für 0:30 Uhr geplant.
URL:https://schuetzen-lippling.de/veranstaltungen/schuetzenfest-in-delbrueck-2/
CATEGORIES:Jungschützen,Schützenverein
END:VEVENT
END:VCALENDAR