BEGIN:VCALENDAR
VERSION:2.0
PRODID:-//St.-Hubertus-Schützenbruderschaft Lippling e. V. - ECPv6.15.20//NONSGML v1.0//EN
CALSCALE:GREGORIAN
METHOD:PUBLISH
X-ORIGINAL-URL:https://schuetzen-lippling.de
X-WR-CALDESC:Veranstaltungen für St.-Hubertus-Schützenbruderschaft Lippling e. V.
REFRESH-INTERVAL;VALUE=DURATION:PT1H
X-Robots-Tag:noindex
X-PUBLISHED-TTL:PT1H
BEGIN:VTIMEZONE
TZID:Europe/Berlin
BEGIN:DAYLIGHT
TZOFFSETFROM:+0100
TZOFFSETTO:+0200
TZNAME:CEST
DTSTART:20210328T010000
END:DAYLIGHT
BEGIN:STANDARD
TZOFFSETFROM:+0200
TZOFFSETTO:+0100
TZNAME:CET
DTSTART:20211031T010000
END:STANDARD
BEGIN:DAYLIGHT
TZOFFSETFROM:+0100
TZOFFSETTO:+0200
TZNAME:CEST
DTSTART:20220327T010000
END:DAYLIGHT
BEGIN:STANDARD
TZOFFSETFROM:+0200
TZOFFSETTO:+0100
TZNAME:CET
DTSTART:20221030T010000
END:STANDARD
BEGIN:DAYLIGHT
TZOFFSETFROM:+0100
TZOFFSETTO:+0200
TZNAME:CEST
DTSTART:20230326T010000
END:DAYLIGHT
BEGIN:STANDARD
TZOFFSETFROM:+0200
TZOFFSETTO:+0100
TZNAME:CET
DTSTART:20231029T010000
END:STANDARD
END:VTIMEZONE
BEGIN:VEVENT
DTSTART;TZID=Europe/Berlin:20221106T090000
DTEND;TZID=Europe/Berlin:20221106T130000
DTSTAMP:20260423T121021
CREATED:20220528T151619Z
LAST-MODIFIED:20221002T083952Z
UID:410-1667725200-1667739600@schuetzen-lippling.de
SUMMARY:Hubertusmesse
DESCRIPTION:Um 9 Uhr beginnt die Messe in der Kirche. Anschließend laden wir zu einem Umtrunk im Pfarrheim ein.
URL:https://schuetzen-lippling.de/veranstaltungen/hubertusmesse/
LOCATION:Kirche Lippling
END:VEVENT
END:VCALENDAR