BEGIN:VCALENDAR
VERSION:2.0
PRODID:-//St.-Hubertus-Schützenbruderschaft Lippling e. V. - ECPv6.15.20//NONSGML v1.0//EN
CALSCALE:GREGORIAN
METHOD:PUBLISH
X-ORIGINAL-URL:https://schuetzen-lippling.de
X-WR-CALDESC:Veranstaltungen für St.-Hubertus-Schützenbruderschaft Lippling e. V.
REFRESH-INTERVAL;VALUE=DURATION:PT1H
X-Robots-Tag:noindex
X-PUBLISHED-TTL:PT1H
BEGIN:VTIMEZONE
TZID:Europe/Berlin
BEGIN:DAYLIGHT
TZOFFSETFROM:+0100
TZOFFSETTO:+0200
TZNAME:CEST
DTSTART:20210328T010000
END:DAYLIGHT
BEGIN:STANDARD
TZOFFSETFROM:+0200
TZOFFSETTO:+0100
TZNAME:CET
DTSTART:20211031T010000
END:STANDARD
BEGIN:DAYLIGHT
TZOFFSETFROM:+0100
TZOFFSETTO:+0200
TZNAME:CEST
DTSTART:20220327T010000
END:DAYLIGHT
BEGIN:STANDARD
TZOFFSETFROM:+0200
TZOFFSETTO:+0100
TZNAME:CET
DTSTART:20221030T010000
END:STANDARD
BEGIN:DAYLIGHT
TZOFFSETFROM:+0100
TZOFFSETTO:+0200
TZNAME:CEST
DTSTART:20230326T010000
END:DAYLIGHT
BEGIN:STANDARD
TZOFFSETFROM:+0200
TZOFFSETTO:+0100
TZNAME:CET
DTSTART:20231029T010000
END:STANDARD
END:VTIMEZONE
BEGIN:VEVENT
DTSTART;TZID=Europe/Berlin:20220612T090000
DTEND;TZID=Europe/Berlin:20220612T090000
DTSTAMP:20260423T190418
CREATED:20220609T042726Z
LAST-MODIFIED:20220609T042726Z
UID:469-1655024400-1655024400@schuetzen-lippling.de
SUMMARY:Teilnahme der Schützen an der Fronleichnamsprozession
DESCRIPTION:Die Schützenbruderschaft nimmt traditionsgemäß in Uniform an der Fronleichnamsprozession teil\, die in Lippling am Sonntag\, 12. Juni 2022 stattfinden wird. Das Festhochamt beginnt um 9 Uhr\, anschließend findet die Prozession durch die Gemeinde statt.
URL:https://schuetzen-lippling.de/veranstaltungen/teilnahme-der-schuetzen-an-der-fronleichnamsprozession/
END:VEVENT
END:VCALENDAR